BEGIN:VCALENDAR
VERSION:2.0
PRODID:-//Journées Nationales de l&#039;Ingénieur - IESF - ECPv6.10.1.1//NONSGML v1.0//EN
CALSCALE:GREGORIAN
METHOD:PUBLISH
X-ORIGINAL-URL:https://jni.iesf.fr
X-WR-CALDESC:Évènements pour Journées Nationales de l&#039;Ingénieur - IESF
REFRESH-INTERVAL;VALUE=DURATION:PT1H
X-Robots-Tag:noindex
X-PUBLISHED-TTL:PT1H
BEGIN:VTIMEZONE
TZID:Europe/Paris
BEGIN:DAYLIGHT
TZOFFSETFROM:+0100
TZOFFSETTO:+0200
TZNAME:CEST
DTSTART:20250330T010000
END:DAYLIGHT
BEGIN:STANDARD
TZOFFSETFROM:+0200
TZOFFSETTO:+0100
TZNAME:CET
DTSTART:20251026T010000
END:STANDARD
BEGIN:DAYLIGHT
TZOFFSETFROM:+0100
TZOFFSETTO:+0200
TZNAME:CEST
DTSTART:20260329T010000
END:DAYLIGHT
BEGIN:STANDARD
TZOFFSETFROM:+0200
TZOFFSETTO:+0100
TZNAME:CET
DTSTART:20261025T010000
END:STANDARD
END:VTIMEZONE
BEGIN:VEVENT
DTSTART;TZID=Europe/Paris:20260311T103000
DTEND;TZID=Europe/Paris:20260311T170000
DTSTAMP:20260420T154755
CREATED:20260227T160553Z
LAST-MODIFIED:20260302T125538Z
UID:10000494-1773225000-1773248400@jni.iesf.fr
SUMMARY:Forum Ecole Entreprises de Télécom Physique Strasbourg
DESCRIPTION:Chaque année\, le Forum École Entreprises marque une étape clé dans le parcours de nos élèves ingénieurs 1A et 2A. Organisé sur une journée\, il s’articule autour d’une conférence\, en matinée\, sur une problématique relative aux futures responsabilités inhérentes au métier de l’ingénieur suivie l’après-midi de mini-ateliers collaboratifs et dynamiques favorisant des espaces d’échanges. \nLes représentants des entreprises\, souvent d’anciens élèves de l’école\, répondent aux questions et apportent des conseils sur les différentes facettes du métier d’ingénieur : les domaines d’activité\, les métiers proposés\, les missions et responsabilités\, les opportunités de carrières\, la politique de stage et de recrutement\, mais aussi la vie et la culture d’entreprise…
URL:https://jni.iesf.fr/agenda/forum-ecole-enterprises-de-telecom-physique-strasbourg/
LOCATION:TELECOM PHYSIQUE STRASBOURG\, 300 Boulevard Sébastien Brant - Pôle API\, Illkirch-Graffenstaden\, Grand-Est\, 67400\, France
CATEGORIES:Forum des métiers,PMIS (Promotion des métiers de l’ingénieur)
ATTACH;FMTTYPE=image/jpeg:https://jni.iesf.fr/wp-content/uploads/2026/02/69a1b399aa86e.jpg
GEO:48.5237456;7.7381289
X-APPLE-STRUCTURED-LOCATION;VALUE=URI;X-ADDRESS=TELECOM PHYSIQUE STRASBOURG 300 Boulevard Sébastien Brant - Pôle API Illkirch-Graffenstaden Grand-Est 67400 France;X-APPLE-RADIUS=500;X-TITLE=300 Boulevard Sébastien Brant - Pôle API:geo:7.7381289,48.5237456
END:VEVENT
BEGIN:VEVENT
DTSTART;TZID=Europe/Paris:20260307T090000
DTEND;TZID=Europe/Paris:20260307T170000
DTSTAMP:20260420T154755
CREATED:20260227T155313Z
LAST-MODIFIED:20260227T155313Z
UID:10000493-1772874000-1772902800@jni.iesf.fr
SUMMARY:Journée portes ouvertes de Télécom Physique Strasbourg
DESCRIPTION:La journée portes ouvertes permet à tout élè_ve ou étudiants de rencontrer les enseignants-chercheurs et élèves ingénieurs pour connaître nos cursus. Il est possible de visiter nos locaux et de découvrir nos équipements spécialisés\, nos travaux pratiques de physique ainsi que nos FabLab et InnovLab. Les élèves seront mobilisés pour présenter les divers aspects de la vie associative de l’école.
URL:https://jni.iesf.fr/agenda/journee-portes-ouvertes-de-telecom-physique-strasbourg/
LOCATION:TELECOM PHYSIQUE STRASBOURG\, 300 Boulevard Sébastien Brant - Pôle API\, Illkirch-Graffenstaden\, Grand-Est\, 67400\, France
CATEGORIES:JPO (Journée Portes Ouvertes)
ATTACH;FMTTYPE=image/jpeg:https://jni.iesf.fr/wp-content/uploads/2026/02/69a1b1aff0ff3.jpg
GEO:48.5237456;7.7381289
X-APPLE-STRUCTURED-LOCATION;VALUE=URI;X-ADDRESS=TELECOM PHYSIQUE STRASBOURG 300 Boulevard Sébastien Brant - Pôle API Illkirch-Graffenstaden Grand-Est 67400 France;X-APPLE-RADIUS=500;X-TITLE=300 Boulevard Sébastien Brant - Pôle API:geo:7.7381289,48.5237456
END:VEVENT
BEGIN:VEVENT
DTSTART;TZID=Europe/Paris:20250305T103000
DTEND;TZID=Europe/Paris:20250305T170000
DTSTAMP:20260420T154755
CREATED:20250213T142056Z
LAST-MODIFIED:20250213T142056Z
UID:10000255-1741170600-1741194000@jni.iesf.fr
SUMMARY:Forum école-entreprise de Télécom Physique Strasbourg
DESCRIPTION:Le Forum École Entreprises de Télécom Physique Strasbourg : temps fort de la construction du projet professionnel de nos élèves ingénieurs.\nCe forum annuel permet aux élèves ingénieurs d’aller à la rencontre des entreprises\, partenaires dont un grand nombre est généralement représenté par des anciens de l’école\, afin d’échanger et de découvrir les diverses facettes du métier d’ingénieur et opportunités proposées. \nOrganisé sur une journée\, ce forum s’articule en deux temps : \n\n 10h30 à 12h15\nPour les étudiants : conférence sobriété numérique proposée par Jérôme Moly (association Latitudes)\n11h à 12h\nPour les entreprises partenaires : découverte de l’InnovLab\nSalon d’échanges professionnels/étudiants de 14h à 17h réunissant :\n– 150 étudiants en 2e année (bac+4) qui sont presque en fin de cursus et se posent beaucoup de questions sur leur orientation professionnelle\n– plus de 40 entreprises\n\n\n\n\nPhysique\n\n\nGratuit | Sur inscription
URL:https://jni.iesf.fr/agenda/forum-ecole-entreprise-de-telecom-physique-strasbourg/
LOCATION:TELECOM PHYSIQUE STRASBOURG\, 300 Boulevard Sébastien Brant - Pôle API\, Illkirch-Graffenstaden\, Grand-Est\, 67400\, France
CATEGORIES:Forum des métiers
ATTACH;FMTTYPE=image/jpeg:https://jni.iesf.fr/wp-content/uploads/2025/02/67adf61fe2e00.jpg
GEO:48.5237456;7.7381289
X-APPLE-STRUCTURED-LOCATION;VALUE=URI;X-ADDRESS=TELECOM PHYSIQUE STRASBOURG 300 Boulevard Sébastien Brant - Pôle API Illkirch-Graffenstaden Grand-Est 67400 France;X-APPLE-RADIUS=500;X-TITLE=300 Boulevard Sébastien Brant - Pôle API:geo:7.7381289,48.5237456
END:VEVENT
BEGIN:VEVENT
DTSTART;TZID=Europe/Paris:20250301T090000
DTEND;TZID=Europe/Paris:20250301T170000
DTSTAMP:20260420T154755
CREATED:20250213T141315Z
LAST-MODIFIED:20250213T141315Z
UID:10000254-1740819600-1740848400@jni.iesf.fr
SUMMARY:Journée portes ouvertes à Télécom Physique Strasbourg
DESCRIPTION:Journée portes ouvertes à Télécom Physique Strasbourg : une journée riche en échanges !\nRencontrez nos enseignants-chercheurs et élèves ingénieurs pour connaître nos cursus\, visitez nos locaux et découvrez nos équipements spécialisés\, nos Travaux Pratiques de Physique et nos FabLab et InnovLab\, ainsi que les associations qui vous présenteront la vie de l’école.
URL:https://jni.iesf.fr/agenda/journee-portes-ouvertes-a-telecom-physique-strasbourg/
LOCATION:TELECOM PHYSIQUE STRASBOURG\, 300 Boulevard Sébastien Brant - Pôle API\, Illkirch-Graffenstaden\, Grand-Est\, 67400\, France
CATEGORIES:JPO (Journée Portes Ouvertes)
ATTACH;FMTTYPE=image/jpeg:https://jni.iesf.fr/wp-content/uploads/2025/02/67adf26c9625a.jpg
GEO:48.5237456;7.7381289
X-APPLE-STRUCTURED-LOCATION;VALUE=URI;X-ADDRESS=TELECOM PHYSIQUE STRASBOURG 300 Boulevard Sébastien Brant - Pôle API Illkirch-Graffenstaden Grand-Est 67400 France;X-APPLE-RADIUS=500;X-TITLE=300 Boulevard Sébastien Brant - Pôle API:geo:7.7381289,48.5237456
END:VEVENT
END:VCALENDAR