BEGIN:VCALENDAR
VERSION:2.0
PRODID:-//Journées Nationales de l&#039;Ingénieur - IESF - ECPv6.10.1.1//NONSGML v1.0//EN
CALSCALE:GREGORIAN
METHOD:PUBLISH
X-ORIGINAL-URL:https://jni.iesf.fr
X-WR-CALDESC:Évènements pour Journées Nationales de l&#039;Ingénieur - IESF
REFRESH-INTERVAL;VALUE=DURATION:PT1H
X-Robots-Tag:noindex
X-PUBLISHED-TTL:PT1H
BEGIN:VTIMEZONE
TZID:Europe/Paris
BEGIN:DAYLIGHT
TZOFFSETFROM:+0100
TZOFFSETTO:+0200
TZNAME:CEST
DTSTART:20260329T010000
END:DAYLIGHT
BEGIN:STANDARD
TZOFFSETFROM:+0200
TZOFFSETTO:+0100
TZNAME:CET
DTSTART:20261025T010000
END:STANDARD
END:VTIMEZONE
BEGIN:VEVENT
DTSTART;TZID=Europe/Paris:20260307T120000
DTEND;TZID=Europe/Paris:20260307T120000
DTSTAMP:20260421T213154
CREATED:20260219T104131Z
LAST-MODIFIED:20260219T104131Z
UID:10000468-1772884800-1772884800@jni.iesf.fr
SUMMARY:Atelier de construction et de lancement de mini-fusées
DESCRIPTION:À l’occasion de sa prochaine Journée Portes Ouvertes\, l’Icam Strasbourg-Europe école d’ingénieurs\, propose aux visiteurs de participer à un atelier de construction et de lancement de mini-fusées 🚀 animé par des enseignants-chercheurs et des étudiants. \nAtelier d’une durée de 1h sur inscription 👉 https://docs.google.com/forms/d/e/1FAIpQLScEN5ExN1364LKA0x2YDaV23TQc9Lnu6Pd8doS-MYtt_PMFAQ/viewform
URL:https://jni.iesf.fr/agenda/atelier-de-construction-et-de-lancement-de-mini-fusees/
LOCATION:ICAM Strasbourg\, Icam site de Strasbourg-Europe\, 2 rue de Madrid\, Schiltigheim\, Grand Est\, 67300
CATEGORIES:Table ronde/Atelier
ATTACH;FMTTYPE=image/jpeg:https://jni.iesf.fr/wp-content/uploads/2026/02/6996dc75e7500.jpg
END:VEVENT
BEGIN:VEVENT
DTSTART;TZID=Europe/Paris:20260307T090000
DTEND;TZID=Europe/Paris:20260307T150000
DTSTAMP:20260421T213154
CREATED:20260107T145448Z
LAST-MODIFIED:20260219T100316Z
UID:10000335-1772874000-1772895600@jni.iesf.fr
SUMMARY:Journée Portes Ouvertes à l'Icam Strasbourg\, école d'ingénieurs
DESCRIPTION:Les Journées Portes Ouvertes de l’Icam sont les occasions privilégiées pour rencontrer nos étudiants et nos enseignants\, et en apprendre plus sur nos formations d’ingénieurs⚙️ \nVous pourrez vous rendre compte concrètement de la vie à l’Icam et posez toutes vos questions❓mais surtout mieux comprendre la diversité de nos formations et découvrir les spécificités et valeurs de l’Icam marqué par l’ouverture\, la proximité et l’accompagnement tout au long de la scolarité 🤝 \n📅 Au programme :\n– Visites guidées de notre campus\, nos laboratoires\, nos fablabs et notre plateforme Industrie 5.0 🦾\n– Stands d’information : formations\, admissions\, mobilité internationale\, spécificités de l’Icam\n– Découverte de nos associations étudiantes\n– Rencontres & échanges privilégiés avec nos étudiants et enseignants qui partageront leur expérience et leur quotidien.
URL:https://jni.iesf.fr/agenda/journee-portes-ouvertes-a-licam-strasbourg-ecole-dingenieurs/
LOCATION:ICAM Strasbourg\, Icam site de Strasbourg-Europe\, 2 rue de Madrid\, Schiltigheim\, Grand Est\, 67300
CATEGORIES:JPO (Journée Portes Ouvertes)
ATTACH;FMTTYPE=image/png:https://jni.iesf.fr/wp-content/uploads/2026/01/695e22ceb12e9.png
END:VEVENT
END:VCALENDAR