BEGIN:VCALENDAR
VERSION:2.0
PRODID:-//Journées Nationales de l&#039;Ingénieur - IESF - ECPv6.10.1.1//NONSGML v1.0//EN
CALSCALE:GREGORIAN
METHOD:PUBLISH
X-WR-CALNAME:Journées Nationales de l&#039;Ingénieur - IESF
X-ORIGINAL-URL:https://jni.iesf.fr
X-WR-CALDESC:Évènements pour Journées Nationales de l&#039;Ingénieur - IESF
REFRESH-INTERVAL;VALUE=DURATION:PT1H
X-Robots-Tag:noindex
X-PUBLISHED-TTL:PT1H
BEGIN:VTIMEZONE
TZID:Europe/Paris
BEGIN:DAYLIGHT
TZOFFSETFROM:+0100
TZOFFSETTO:+0200
TZNAME:CEST
DTSTART:20260329T010000
END:DAYLIGHT
BEGIN:STANDARD
TZOFFSETFROM:+0200
TZOFFSETTO:+0100
TZNAME:CET
DTSTART:20261025T010000
END:STANDARD
END:VTIMEZONE
BEGIN:VEVENT
DTSTART;VALUE=DATE:20260313
DTEND;VALUE=DATE:20260314
DTSTAMP:20260420T200952
CREATED:20260209T103244Z
LAST-MODIFIED:20260209T103244Z
UID:10000418-1773360000-1773446399@jni.iesf.fr
SUMMARY:Forum des Métiers : Point d'Information Jeunesse de Montmagny
DESCRIPTION:Au sein de l’association « Ingénieurs et scientifiques de France »\, le comité Promotion des métiers de l’ingénieur et du scientifique (PMIS) en Île-de-France regroupe des membres bénévoles pour témoigner de leur expérience professionnelle. \nDes professionnels exerçant des métiers scientifiques viennent témoigner auprès des élèves d’une classe. \nLes objectifs sont : \n\nde faire connaître les métiers scientifiques et techniques aux élèves\,\nd’inciter les jeunes à choisir ces métiers\,\nd’expliquer les qualités requises\, les formations disponibles et les possibilités d’évolution de ces métiers\n\nParticipation au Forum des métiers réservée aux élèves du Point d’information Jeunesse de Montmagny.
URL:https://jni.iesf.fr/agenda/forum-des-metiers-point-dinformation-jeunesse-de-montmagny/
LOCATION:Point d’Information Jeunesse de Montmagny\, 22 rue de Villtaneuse\, MONTMAGNY\, 95360
CATEGORIES:PMIS (Promotion des métiers de l’ingénieur)
ATTACH;FMTTYPE=image/png:https://jni.iesf.fr/wp-content/uploads/2024/02/46-PMIS-ILE-DE-FRANCE63ee4914ce559.png
END:VEVENT
END:VCALENDAR