BEGIN:VCALENDAR
VERSION:2.0
PRODID:-//Journées Nationales de l&#039;Ingénieur - IESF - ECPv6.10.1.1//NONSGML v1.0//EN
CALSCALE:GREGORIAN
METHOD:PUBLISH
X-WR-CALNAME:Journées Nationales de l&#039;Ingénieur - IESF
X-ORIGINAL-URL:https://jni.iesf.fr
X-WR-CALDESC:Évènements pour Journées Nationales de l&#039;Ingénieur - IESF
REFRESH-INTERVAL;VALUE=DURATION:PT1H
X-Robots-Tag:noindex
X-PUBLISHED-TTL:PT1H
BEGIN:VTIMEZONE
TZID:Europe/Paris
BEGIN:DAYLIGHT
TZOFFSETFROM:+0100
TZOFFSETTO:+0200
TZNAME:CEST
DTSTART:20250330T010000
END:DAYLIGHT
BEGIN:STANDARD
TZOFFSETFROM:+0200
TZOFFSETTO:+0100
TZNAME:CET
DTSTART:20251026T010000
END:STANDARD
BEGIN:DAYLIGHT
TZOFFSETFROM:+0100
TZOFFSETTO:+0200
TZNAME:CEST
DTSTART:20260329T010000
END:DAYLIGHT
BEGIN:STANDARD
TZOFFSETFROM:+0200
TZOFFSETTO:+0100
TZNAME:CET
DTSTART:20261025T010000
END:STANDARD
END:VTIMEZONE
BEGIN:VEVENT
DTSTART;TZID=Europe/Paris:20260331T090000
DTEND;TZID=Europe/Paris:20260331T170000
DTSTAMP:20260420T201950
CREATED:20260302T095511Z
LAST-MODIFIED:20260302T150150Z
UID:10000498-1774947600-1774976400@jni.iesf.fr
SUMMARY:Forum des Métiers : Villiers-sur-Marne
DESCRIPTION:Au sein de l’association « Ingénieurs et scientifiques de France »\, le comité Promotion des métiers de l’ingénieur et du scientifique (PMIS) en Île-de-France regroupe des membres bénévoles pour témoigner de leur expérience professionnelle. \nDes professionnels exerçant des métiers scientifiques viennent témoigner auprès des élèves d’une classe. \nLes objectifs sont : \n\nde faire connaître les métiers scientifiques et techniques aux élèves\,\nd’inciter les jeunes à choisir ces métiers\,\nd’expliquer les qualités requises\, les formations disponibles et les possibilités d’évolution de ces métiers\n\nEvènement organisé par la Mairie de Villiers-sur-Marne. \nLa participation au Forum des métiers est réservée aux élèves des établissements de Villiers-sur-Marne.
URL:https://jni.iesf.fr/agenda/forum-des-metiers-villiers-sur-marne/
LOCATION:Mairie de Villiers-sur-Marne\, salle Georges Brassens - 4 rue Boieldieu\, VILLIERS-SUR-MARNE\, 94350
CATEGORIES:PMIS (Promotion des métiers de l’ingénieur)
ATTACH;FMTTYPE=image/png:https://jni.iesf.fr/wp-content/uploads/2024/02/46-PMIS-ILE-DE-FRANCE63ee4914ce559.png
END:VEVENT
BEGIN:VEVENT
DTSTART;TZID=Europe/Paris:20250311T093000
DTEND;TZID=Europe/Paris:20250311T173000
DTSTAMP:20260420T201950
CREATED:20250203T114124Z
LAST-MODIFIED:20250203T115650Z
UID:10000206-1741685400-1741714200@jni.iesf.fr
SUMMARY:Forum des Métiers : Mairie de Villiers-sur-Marne
DESCRIPTION:Au sein de l’association « Ingénieurs et scientifiques de France »\, le comité Promotion des métiers de l’ingénieur et du scientifique (PMIS) en Île-de-France regroupe des membres bénévoles pour témoigner de leur expérience professionnelle. \nDes professionnels exerçant des métiers scientifiques viennent témoigner auprès des élèves d’une classe. \nLes objectifs sont : \n\nde faire connaître les métiers scientifiques et techniques aux élèves\,\nd’inciter les jeunes à choisir ces métiers\,\nd’expliquer les qualités requises\, les formations disponibles et les possibilités d’évolution de ces métiers\n\nParticipation au Forum des métiers organisé par la Mairie de Villiers-sur-Marne / évènement réservé aux élèves de la ville UNIQUEMENT.
URL:https://jni.iesf.fr/agenda/forum-des-metiers-presentation-des-metiers-de-lingenieur-6/
LOCATION:Mairie de Villiers-sur-Marne\, salle Georges Brassens - 4 rue Boieldieu\, VILLIERS-SUR-MARNE\, 94350
CATEGORIES:PMIS (Promotion des métiers de l’ingénieur)
ATTACH;FMTTYPE=image/png:https://jni.iesf.fr/wp-content/uploads/2024/02/46-PMIS-ILE-DE-FRANCE63ee4914ce559.png
END:VEVENT
END:VCALENDAR