BEGIN:VCALENDAR
VERSION:2.0
PRODID:-//Journées Nationales de l&#039;Ingénieur - IESF - ECPv6.10.1.1//NONSGML v1.0//EN
CALSCALE:GREGORIAN
METHOD:PUBLISH
X-WR-CALNAME:Journées Nationales de l&#039;Ingénieur - IESF
X-ORIGINAL-URL:https://jni.iesf.fr
X-WR-CALDESC:Évènements pour Journées Nationales de l&#039;Ingénieur - IESF
REFRESH-INTERVAL;VALUE=DURATION:PT1H
X-Robots-Tag:noindex
X-PUBLISHED-TTL:PT1H
BEGIN:VTIMEZONE
TZID:Europe/Paris
BEGIN:DAYLIGHT
TZOFFSETFROM:+0100
TZOFFSETTO:+0200
TZNAME:CEST
DTSTART:20260329T010000
END:DAYLIGHT
BEGIN:STANDARD
TZOFFSETFROM:+0200
TZOFFSETTO:+0100
TZNAME:CET
DTSTART:20261025T010000
END:STANDARD
END:VTIMEZONE
BEGIN:VEVENT
DTSTART;TZID=Europe/Paris:20260307T083000
DTEND;TZID=Europe/Paris:20260307T120000
DTSTAMP:20260421T001411
CREATED:20260219T095302Z
LAST-MODIFIED:20260219T095302Z
UID:10000466-1772872200-1772884800@jni.iesf.fr
SUMMARY:Forum des ingénieurs pour les élèves de CPGE
DESCRIPTION:Au sein de l’association « Ingénieurs et scientifiques de France »\, le comité Promotion des métiers de l’ingénieur et du scientifique (PMIS) en Provence regroupe des membres bénévoles pour témoigner de leur expérience professionnelle. \nDes professionnels exerçant des métiers scientifiques viennent témoigner auprès des élèves de 1ère année de CPGE. \nLes objectifs sont : \n\nde faire connaître les métiers scientifiques et techniques aux élèves\,\nd’inciter les jeunes à choisir ces métiers\,\nd’expliquer les qualités requises\, les formations disponibles et les possibilités d’évolution de ces métiers
URL:https://jni.iesf.fr/agenda/forum-des-ingenieurs-pour-les-eleves-de-cpge/
LOCATION:Lycée Cézanne\, 19 av. Jean et Marcel Fontenaille\, Aix-en-Provence\, 13090
CATEGORIES:PMIS (Promotion des métiers de l’ingénieur)
ATTACH;FMTTYPE=image/png:https://jni.iesf.fr/wp-content/uploads/2026/02/119-IESF-Provence.png
END:VEVENT
END:VCALENDAR