BEGIN:VCALENDAR
VERSION:2.0
PRODID:-//Journées Nationales de l&#039;Ingénieur - IESF - ECPv6.10.1.1//NONSGML v1.0//EN
CALSCALE:GREGORIAN
METHOD:PUBLISH
X-WR-CALNAME:Journées Nationales de l&#039;Ingénieur - IESF
X-ORIGINAL-URL:https://jni.iesf.fr
X-WR-CALDESC:Évènements pour Journées Nationales de l&#039;Ingénieur - IESF
REFRESH-INTERVAL;VALUE=DURATION:PT1H
X-Robots-Tag:noindex
X-PUBLISHED-TTL:PT1H
BEGIN:VTIMEZONE
TZID:Europe/Paris
BEGIN:DAYLIGHT
TZOFFSETFROM:+0100
TZOFFSETTO:+0200
TZNAME:CEST
DTSTART:20260329T010000
END:DAYLIGHT
BEGIN:STANDARD
TZOFFSETFROM:+0200
TZOFFSETTO:+0100
TZNAME:CET
DTSTART:20261025T010000
END:STANDARD
END:VTIMEZONE
BEGIN:VEVENT
DTSTART;TZID=Europe/Paris:20260311T090000
DTEND;TZID=Europe/Paris:20260312T090000
DTSTAMP:20260421T130822
CREATED:20260210T085550Z
LAST-MODIFIED:20260210T085743Z
UID:10000429-1773219600-1773306000@jni.iesf.fr
SUMMARY:Journées techniques Génie Civil 2026 – L’ IA : l’Ingénierie Augmentée au service du Génie Civil
DESCRIPTION:L’Association Française de Génie Civil (AFGC) organise les 11 et 12 mars les Journées techniques GC’2026  sur le thème\nL’ IA : l’Ingénierie Augmentée au service du Génie Civil\nAprès GC’2021 en distanciel pour cause de COVID et 2023 et le congrès du génie civil\, organisé en lien avec l’AUGC à Saclay\, l’AFGC renoue avec l’organisation de ses journées techniques avec une année de décalage compte tenu d’un calendrier chargé en 2025\, en particulier avec le symposium de la fib  à Antibes en juin 2025. \nNous souhaitons\, comme à chaque fois\, réunir l’ensemble des acteurs du génie civil souhaitant échanger\, débattre et s’informer sur les évolutions des connaissances techniques et scientifiques du domaine. \nL’actualité de l’intelligence artificielle qui bruisse autour de nous sous divers aspects\, nous a guidé pour retenir la thématique de ces journées: l’Ingénierie Augmentée au service du Génie Civil \n« L’ingénierie augmentée »\, avec son alliance puissante entre intelligence artificielle (IA)\, big data et technologies numériques\, amènent à redéfinir le secteur du génie civil. Après plusieurs années de transformation\, nous nous retrouvons à un tournant où les technologies avancées\, du BIM à l’impression 3D\, en passant par la réalité augmentée\, l’automatisation et l’optimisation des ressources\, ouvrent des perspectives inédites pour concevoir\, construire\, entretenir et gérer des infrastructures plus communicantes et plus durables. \nNous souhaitons\, comme à chaque fois\, réunir l’ensemble des acteurs du génie civil souhaitant échanger\, débattre et s’informer sur les évolutions des connaissances techniques et scientifiques du domaine. \n\n\n\nPhysique\n\n\nPayant | Sur inscription
URL:https://jni.iesf.fr/agenda/journees-techniques-gc2026-l-ia-lingenierie-augmentee-au-service-du-genie-civil/
LOCATION:Journées techniques GC’2026 – L’ IA : l’Ingénierie Augmentée au service du Génie Civil\, SMABTP\, 8 Rue Louis Armand\, Paris\, France\, Paris\, Ile-de-France\, 75015\, France
CATEGORIES:Conférence/Colloque
ATTACH;FMTTYPE=image/jpeg:https://jni.iesf.fr/wp-content/uploads/2026/02/86-journees-techniques-GC2026.jpg
END:VEVENT
END:VCALENDAR