BEGIN:VCALENDAR
VERSION:2.0
PRODID:-//Journées Nationales de l&#039;Ingénieur - IESF - ECPv6.10.1.1//NONSGML v1.0//EN
CALSCALE:GREGORIAN
METHOD:PUBLISH
X-WR-CALNAME:Journées Nationales de l&#039;Ingénieur - IESF
X-ORIGINAL-URL:https://jni.iesf.fr
X-WR-CALDESC:Évènements pour Journées Nationales de l&#039;Ingénieur - IESF
REFRESH-INTERVAL;VALUE=DURATION:PT1H
X-Robots-Tag:noindex
X-PUBLISHED-TTL:PT1H
BEGIN:VTIMEZONE
TZID:Europe/Paris
BEGIN:DAYLIGHT
TZOFFSETFROM:+0100
TZOFFSETTO:+0200
TZNAME:CEST
DTSTART:20260329T010000
END:DAYLIGHT
BEGIN:STANDARD
TZOFFSETFROM:+0200
TZOFFSETTO:+0100
TZNAME:CET
DTSTART:20261025T010000
END:STANDARD
END:VTIMEZONE
BEGIN:VEVENT
DTSTART;TZID=Europe/Paris:20260307T140000
DTEND;TZID=Europe/Paris:20260307T180000
DTSTAMP:20260421T130601
CREATED:20260218T112016Z
LAST-MODIFIED:20260218T123218Z
UID:10000458-1772892000-1772906400@jni.iesf.fr
SUMMARY:Journée Portes Ouvertes de l'ECE Paris
DESCRIPTION:Vous souhaitez découvrir les locaux\, visiter les laboratoires\, rencontrer les élèves\, les enseignants\, la direction…?\nLes Portes Ouvertes sont un incontournable pour mieux connaître l’école. \nRencontrez les élèves et échangez sur les séjours à l’international.\nPosez vos questions aux enseignants et aux diplômés de l’école. \nRendez-vous le 7 mars : pour vous inscrire c’est ICI : https://www.ece.fr/inseecu/jpo/13604
URL:https://jni.iesf.fr/agenda/journee-portes-ouvertes-de-lece/
LOCATION:Journée Portes Ouvertes de l’ECE\, 10\, RUE SEXTIUS MICHEL\, PARIS\, Ile-de-France\, 75015\, France
CATEGORIES:JPO (Journée Portes Ouvertes)
ATTACH;FMTTYPE=image/png:https://jni.iesf.fr/wp-content/uploads/2026/02/113-JPO-ECE-scaled.png
END:VEVENT
END:VCALENDAR