BEGIN:VCALENDAR
VERSION:2.0
PRODID:-//Journées Nationales de l&#039;Ingénieur - IESF - ECPv6.10.1.1//NONSGML v1.0//EN
CALSCALE:GREGORIAN
METHOD:PUBLISH
X-WR-CALNAME:Journées Nationales de l&#039;Ingénieur - IESF
X-ORIGINAL-URL:https://jni.iesf.fr
X-WR-CALDESC:Évènements pour Journées Nationales de l&#039;Ingénieur - IESF
REFRESH-INTERVAL;VALUE=DURATION:PT1H
X-Robots-Tag:noindex
X-PUBLISHED-TTL:PT1H
BEGIN:VTIMEZONE
TZID:Europe/Paris
BEGIN:DAYLIGHT
TZOFFSETFROM:+0100
TZOFFSETTO:+0200
TZNAME:CEST
DTSTART:20260329T010000
END:DAYLIGHT
BEGIN:STANDARD
TZOFFSETFROM:+0200
TZOFFSETTO:+0100
TZNAME:CET
DTSTART:20261025T010000
END:STANDARD
END:VTIMEZONE
BEGIN:VEVENT
DTSTART;TZID=Europe/Paris:20260304T180000
DTEND;TZID=Europe/Paris:20260304T210000
DTSTAMP:20260421T115030
CREATED:20260219T101350Z
LAST-MODIFIED:20260223T152528Z
UID:10000467-1772647200-1772658000@jni.iesf.fr
SUMMARY:Soirée Portes Ouvertes de l'Icam Toulouse
DESCRIPTION:Plongez au cœur de l’ingénierie et découvrez l’Icam de l’intérieur lors de notre Soirée Porte Ouverte du 4 mars prochain. \nVous avez envie de comprendre ce que signifie vraiment devenir ingénieur généraliste aujourd’hui ? L’Icam site de Toulouse vous ouvre ses portes pour une immersion dans la formation et les métiers de l’ingénierie. \nVenez rencontrer étudiants et enseignants\, parcourez le campus lors de visites guidées : laboratoires\, FabLab\, projets étudiants\, Résidence étudiante… Ici\, l’ingénierie se voit et se touche. \nA 19h : Vous assisterez à une conférence dédiée aux débouchés et aux compétences clés de l’ingénieur généraliste\, enrichie par des témoignages de diplômés. \nEntre deux découvertes\, profitez d’un moment convivial sur le campus et échangez librement avec la communauté Icam. \nNous vous attendons nombreux !
URL:https://jni.iesf.fr/agenda/soiree-portes-ouvertes-de-licam-toulouse/
LOCATION:Icam – site de Toulouse\, 75 av de Grande Bretagne\, Toulouse\, 31000
CATEGORIES:JPO (Journée Portes Ouvertes)
ATTACH;FMTTYPE=image/jpeg:https://jni.iesf.fr/wp-content/uploads/2026/02/6996db9280856-scaled.jpg
END:VEVENT
END:VCALENDAR