BEGIN:VCALENDAR
VERSION:2.0
PRODID:-//Journées Nationales de l&#039;Ingénieur - IESF - ECPv6.10.1.1//NONSGML v1.0//EN
CALSCALE:GREGORIAN
METHOD:PUBLISH
X-ORIGINAL-URL:https://jni.iesf.fr
X-WR-CALDESC:Évènements pour Journées Nationales de l&#039;Ingénieur - IESF
REFRESH-INTERVAL;VALUE=DURATION:PT1H
X-Robots-Tag:noindex
X-PUBLISHED-TTL:PT1H
BEGIN:VTIMEZONE
TZID:Europe/Paris
BEGIN:DAYLIGHT
TZOFFSETFROM:+0100
TZOFFSETTO:+0200
TZNAME:CEST
DTSTART:20260329T010000
END:DAYLIGHT
BEGIN:STANDARD
TZOFFSETFROM:+0200
TZOFFSETTO:+0100
TZNAME:CET
DTSTART:20261025T010000
END:STANDARD
END:VTIMEZONE
BEGIN:VEVENT
DTSTART;TZID=Europe/Paris:20260304T173000
DTEND;TZID=Europe/Paris:20260304T200000
DTSTAMP:20260421T122652
CREATED:20260216T133924Z
LAST-MODIFIED:20260216T134238Z
UID:10000442-1772645400-1772654400@jni.iesf.fr
SUMMARY:Du vin au béton: 35 ans de carrière au Québec
DESCRIPTION:Conférence organisée par IESF Canada – Francogénie :\nDu vin au béton: 35 ans de carrière au Québec – de l’institut Agro Montpellier à la vice-présidence qualité d’une grande firme de génie conseil.\nVincent Van Branteghem est arrivé au Québec il y a plus de 35 ans avec un diplôme d’ingénieur agronome français (alors non reconnu par l’Ordre des Ingénieurs du Québec) et seulement un permis de travail temporaire en poche.\nIl s’est vu offrir des opportunités par des personnes qui ont cru en lui\, ce qui l’a mené à une carrière éclectique\, internationale et stimulante dans des domaines très variés. \nAujourd’hui à la retraite\, Vincent partage son temps entre bénévolat\, mentorat\, culture\, nature et vie familiale.\nIl abordera entre autres:\n– Les principales embûches et erreurs rencontrées\n– Comment saisir les opportunités et créer son réseau\n– Quelques retours sur les différences fondamentales ingénieur en France et ingénieur au Québec \nCe sera l’occasion de participer à des échanges ouverts et de réseauter entre participants. \nQue vous soyez en recherche active\, en réflexion ou simplement curieux de mieux comprendre les codes du marché québécois\, ce 6@8 est une occasion concrète de mieux saisir certaines subtilités du monde du travail au Québec par quelqu’un qui y a fait une longue et enrichissante carrière.
URL:https://jni.iesf.fr/agenda/du-vin-au-beton-35-ans-de-carriere-au-quebec-de-linstitut-agro-montpellier-a-la-vice-presidence-qualite-dune-grande-firme-de-genie-conseil/
LOCATION:Du vin au béton: 35 ans de carrière au Québec – de l’institut Agro Montpellier à la vice-présidence qualité d’une grande firme de génie conseil.\, 1200 Rue du Sussex - salle 3 (à l'étage)\, Montréal\, CANADA\, Canada
CATEGORIES:Conférence/Colloque
ATTACH;FMTTYPE=image/jpeg:https://jni.iesf.fr/wp-content/uploads/2026/02/698f8078ba225.jpg
END:VEVENT
END:VCALENDAR