BEGIN:VCALENDAR
VERSION:2.0
PRODID:-//Journées Nationales de l&#039;Ingénieur - IESF - ECPv6.10.1.1//NONSGML v1.0//EN
CALSCALE:GREGORIAN
METHOD:PUBLISH
X-WR-CALNAME:Journées Nationales de l&#039;Ingénieur - IESF
X-ORIGINAL-URL:https://jni.iesf.fr
X-WR-CALDESC:Évènements pour Journées Nationales de l&#039;Ingénieur - IESF
REFRESH-INTERVAL;VALUE=DURATION:PT1H
X-Robots-Tag:noindex
X-PUBLISHED-TTL:PT1H
BEGIN:VTIMEZONE
TZID:Europe/Paris
BEGIN:DAYLIGHT
TZOFFSETFROM:+0100
TZOFFSETTO:+0200
TZNAME:CEST
DTSTART:20250330T010000
END:DAYLIGHT
BEGIN:STANDARD
TZOFFSETFROM:+0200
TZOFFSETTO:+0100
TZNAME:CET
DTSTART:20251026T010000
END:STANDARD
BEGIN:DAYLIGHT
TZOFFSETFROM:+0100
TZOFFSETTO:+0200
TZNAME:CEST
DTSTART:20260329T010000
END:DAYLIGHT
BEGIN:STANDARD
TZOFFSETFROM:+0200
TZOFFSETTO:+0100
TZNAME:CET
DTSTART:20261025T010000
END:STANDARD
END:VTIMEZONE
BEGIN:VEVENT
DTSTART;TZID=Europe/Paris:20260218T090000
DTEND;TZID=Europe/Paris:20260218T120000
DTSTAMP:20260420T215222
CREATED:20260209T102529Z
LAST-MODIFIED:20260209T161108Z
UID:10000417-1771405200-1771416000@jni.iesf.fr
SUMMARY:Forum des Métiers au Collège Lucie Aubrac
DESCRIPTION:Au sein de l’association « Ingénieurs et scientifiques de France »\, le comité Promotion des métiers de l’ingénieur et du scientifique (PMIS) en Île-de-France regroupe des membres bénévoles pour témoigner de leur expérience professionnelle. \nDes professionnels exerçant des métiers scientifiques viennent témoigner auprès des élèves d’une classe. \nLes objectifs sont : \n\nde faire connaître les métiers scientifiques et techniques aux élèves\,\nd’inciter les jeunes à choisir ces métiers\,\nd’expliquer les qualités requises\, les formations disponibles et les possibilités d’évolution de ces métiers\n\nParticipation au Forum des métiers réservée aux élèves du Collège Lucie Aubrac.
URL:https://jni.iesf.fr/agenda/forum-des-metiers-college-lucie-aubrac/
LOCATION:Collège Lucie Aubrac\, 1 sentier du Clos\, Villetaneuse\, 93430
CATEGORIES:PMIS (Promotion des métiers de l’ingénieur)
ATTACH;FMTTYPE=image/png:https://jni.iesf.fr/wp-content/uploads/2024/02/46-PMIS-ILE-DE-FRANCE63ee4914ce559.png
END:VEVENT
BEGIN:VEVENT
DTSTART;VALUE=DATE:20250327
DTEND;VALUE=DATE:20250328
DTSTAMP:20260420T215222
CREATED:20250226T111251Z
LAST-MODIFIED:20250226T111251Z
UID:10000284-1743033600-1743119999@jni.iesf.fr
SUMMARY:Présentation en classe des métiers de l’ingénieur : collège Lucie Aubrac
DESCRIPTION:Au sein de l’association « Ingénieurs et scientifiques de France »\, le comité Promotion des métiers de l’ingénieur et du scientifique (PMIS) en Île-de-France regroupe des membres bénévoles pour témoigner de leur expérience professionnelle. \nDes professionnels exerçant des métiers scientifiques viennent témoigner auprès des élèves d’une classe. \nLes objectifs sont : \n\nde faire connaître les métiers scientifiques et techniques aux élèves\,\nd’inciter les jeunes à choisir ces métiers\,\nd’expliquer les qualités requises\, les formations disponibles et les possibilités d’évolution de ces métiers\n\nParticipation à la présentation des métiers de l’ingénieur réservée aux élèves du collège Lucie Aubrac.
URL:https://jni.iesf.fr/agenda/presentation-en-classe-des-metiers-de-lingenieur-college-lucie-aubrac/
LOCATION:Collège Lucie Aubrac\, 1 sentier du Clos\, Villetaneuse\, 93430
CATEGORIES:PMIS (Promotion des métiers de l’ingénieur)
ATTACH;FMTTYPE=image/png:https://jni.iesf.fr/wp-content/uploads/2024/02/46-PMIS-ILE-DE-FRANCE63ee4914ce559.png
END:VEVENT
END:VCALENDAR