BEGIN:VCALENDAR
VERSION:2.0
PRODID:-//Journées Nationales de l&#039;Ingénieur - IESF - ECPv6.10.1.1//NONSGML v1.0//EN
CALSCALE:GREGORIAN
METHOD:PUBLISH
X-ORIGINAL-URL:https://jni.iesf.fr
X-WR-CALDESC:Évènements pour Journées Nationales de l&#039;Ingénieur - IESF
REFRESH-INTERVAL;VALUE=DURATION:PT1H
X-Robots-Tag:noindex
X-PUBLISHED-TTL:PT1H
BEGIN:VTIMEZONE
TZID:Europe/Paris
BEGIN:DAYLIGHT
TZOFFSETFROM:+0100
TZOFFSETTO:+0200
TZNAME:CEST
DTSTART:20250330T010000
END:DAYLIGHT
BEGIN:STANDARD
TZOFFSETFROM:+0200
TZOFFSETTO:+0100
TZNAME:CET
DTSTART:20251026T010000
END:STANDARD
END:VTIMEZONE
BEGIN:VEVENT
DTSTART;TZID=Europe/Paris:20250313T090000
DTEND;TZID=Europe/Paris:20250313T153000
DTSTAMP:20260421T153918
CREATED:20250210T105107Z
LAST-MODIFIED:20250210T105107Z
UID:10000228-1741856400-1741879800@jni.iesf.fr
SUMMARY:Présentation en classe des Métiers de l'Ingénieur et du Scientifique au collège Jean BAUHIN à Audincourt (Doubs)
DESCRIPTION:Évènement Physique\n\n\n\n\n\n\n  \n\n\n\nLes métiers d’ingénieur et de scientifique sont souvent méconnus\, alors qu’ils sont au coeur de l’innovation\, des transitions écologique\, énergétique et numérique. \nIESF-BFC (Ingénieurs et Scientifiques de France – Bourgogne Franche-Comté) est une association sans but lucratif\, animée par un réseau d’ingénieurs. \nTous bénévoles\, ils sont mobilisés pour aller à la rencontre des élèves\, principalement collégiens et lycéens\, lors d’interventions en classe ou de forums des métiers. \nCes échanges permettent de partager leurs expériences\, d’expliquer le quotidien d’un ingénieur\, la variété des domaines d’activité\, des métiers et des parcours professionnels\, ainsi que les voies d’accès à ces métiers …\n\n\n\nL’objectif est de casser les préjugés liés aux métiers d’ingénieur et de scientifique\, y compris les préjugés de genre et d’élite sociale. \nCette présentation en classe est réservée aux élèves du collège Jean BAUHIN à Audincourt (Doubs) \n 
URL:https://jni.iesf.fr/agenda/presentation-en-classe-des-metiers-de-lingenieur-et-du-scientifique-au-college-jean-bauhin-a-audincourt-doubs/
LOCATION:collège Jean BAUHIN\, Rue du Stand\, AUDINCOURT\, 25400
CATEGORIES:PMIS (Promotion des métiers de l’ingénieur)
ATTACH;FMTTYPE=image/png:https://jni.iesf.fr/wp-content/uploads/2025/02/63-IESF-BFC-PMIS-1.png
END:VEVENT
END:VCALENDAR