BEGIN:VCALENDAR
VERSION:2.0
PRODID:-//Journées Nationales de l&#039;Ingénieur - IESF - ECPv6.10.1.1//NONSGML v1.0//EN
CALSCALE:GREGORIAN
METHOD:PUBLISH
X-WR-CALNAME:Journées Nationales de l&#039;Ingénieur - IESF
X-ORIGINAL-URL:https://jni.iesf.fr
X-WR-CALDESC:Évènements pour Journées Nationales de l&#039;Ingénieur - IESF
REFRESH-INTERVAL;VALUE=DURATION:PT1H
X-Robots-Tag:noindex
X-PUBLISHED-TTL:PT1H
BEGIN:VTIMEZONE
TZID:Europe/Paris
BEGIN:DAYLIGHT
TZOFFSETFROM:+0100
TZOFFSETTO:+0200
TZNAME:CEST
DTSTART:20260329T010000
END:DAYLIGHT
BEGIN:STANDARD
TZOFFSETFROM:+0200
TZOFFSETTO:+0100
TZNAME:CET
DTSTART:20261025T010000
END:STANDARD
END:VTIMEZONE
BEGIN:VEVENT
DTSTART;TZID=Europe/Paris:20260321T093000
DTEND;TZID=Europe/Paris:20260321T180000
DTSTAMP:20260420T214502
CREATED:20260311T100814Z
LAST-MODIFIED:20260311T100814Z
UID:10000512-1774085400-1774116000@jni.iesf.fr
SUMMARY:Colloque international : Camille FLAMMARION\, ce méconnu
DESCRIPTION:Connaissez-vous vraiment Camille Flammarion ? S’il a donné son nom à de nombreuses rues ou observatoires\, l’ampleur de son héritage scientifique reste aujourd’hui souvent dans l’ombre. Pourtant\, Camille Flammarion (1842-1925) gagne à être (re)connu ! \n\nIl fut l’un des plus grands pionniers de la vulgarisation scientifique. En fondant la Société astronomique de France et en publiant son incontournable « Astronomie populaire »\, il a su rapprocher la science « dure » du grand public. Il incarne la transmission du savoir\, la rigueur scientifique et la capacité à inspirer les futures générations d’ingénieurs et de chercheurs à lever les yeux vers les étoiles. \nPour redécouvrir cette figure fascinante de l’astronomie\, l’Union des Ingénieurs du Cnam a le plaisir de vous convier à un colloque international exceptionnel : \nCamille FLAMMARION\, ce méconnu \nAu programme : des échanges passionnants pour explorer l’esprit d’un visionnaire dont les travaux ont marqué l’histoire des sciences en France et à l’international. \n📅 Quand ? Le 21 mars 2026 de 9h30 à 18h \n📍 Où ? Cnam – 292 rue Saint-Martin\, Paris 3e (Amphithéâtre Abbé Grégoire) \n🎟️ Tarif : Entrée GRATUITE\, mais inscription obligatoire. Ne manquez pas cette opportunité d’enrichir votre culture scientifique et de networker avec d’autres passionnés d’Île-de-France ! \n👉 Sécurisez votre place dès maintenant en vous inscrivant ici : https://indico.obspm.fr/event/2806/
URL:https://jni.iesf.fr/agenda/colloque-international-camille-flammarion-ce-meconnu/
LOCATION:Amphithéâtre Abbé Grégoire du CNAM\, 292 rue Saint-Martin\, Paris\, 75003
CATEGORIES:Conférence/Colloque
ATTACH;FMTTYPE=image/jpeg:https://jni.iesf.fr/wp-content/uploads/2026/03/155-Colloque-Flammarion.jpg
END:VEVENT
BEGIN:VEVENT
DTSTART;TZID=Europe/Paris:20260318T183000
DTEND;TZID=Europe/Paris:20260318T200000
DTSTAMP:20260420T214502
CREATED:20260304T102551Z
LAST-MODIFIED:20260304T102551Z
UID:10000502-1773858600-1773864000@jni.iesf.fr
SUMMARY:Conférence : La Souveraineté par la décarbonation : voie nécessaire pour la France et l'Europe
DESCRIPTION:La question de la dépendance énergétique occupe une place centrale dans les débats actuels sur l’avenir économique et industriel de la France. Le rapport « La souveraineté par la décarbonation » de The Shift Project propose un éclairage approfondi sur l’exposition énergétique du pays\, en tenant compte à la fois de l’énergie consommée sur le territoire et de celle mobilisée indirectement via les importations. \nCette conférence sera l’occasion de présenter et discuter les principaux enseignements de ce travail\, avec un focus particulier sur le secteur des transports\, et plus précisément sur l’automobile\, qui concentre de nombreux enjeux de transition : évolution des motorisations\, dépendance aux ressources\, transformation des usages et des chaînes de valeur industrielles. \nAux côtés d’experts de The Shift Project\, nous prendrons le temps de mettre en perspective les constats du rapport\, d’en explorer les implications pour la mobilité\, et d’ouvrir un espace d’échange sur les questions que soulève la décarbonation du transport au regard des enjeux de souveraineté. \nConferenciers\n\nAlexandre Barré – The Shift Project\nLaurent Perron – The Shift Project\n\n  \nDEROULEMENT DE LA SEANCE\n\nLa conférence se déroulera en mode hybride et aura lieu de 18h30 à 20h00 dans l’amphithéatre Abbé Grégoire du CNAM.
URL:https://jni.iesf.fr/agenda/conference-la-souverainete-par-la-decarbonation-voie-necessaire-pour-la-france-et-leurope/
LOCATION:Amphithéâtre Abbé Grégoire du CNAM\, 292 rue Saint-Martin\, Paris\, 75003
CATEGORIES:Conférence/Colloque
ATTACH;FMTTYPE=image/jpeg:https://jni.iesf.fr/wp-content/uploads/2026/03/147-The-Shift-Project.jpg
END:VEVENT
END:VCALENDAR