BEGIN:VCALENDAR
VERSION:2.0
PRODID:-//Journées Nationales de l&#039;Ingénieur - IESF - ECPv6.10.1.1//NONSGML v1.0//EN
CALSCALE:GREGORIAN
METHOD:PUBLISH
X-WR-CALNAME:Journées Nationales de l&#039;Ingénieur - IESF
X-ORIGINAL-URL:https://jni.iesf.fr
X-WR-CALDESC:Évènements pour Journées Nationales de l&#039;Ingénieur - IESF
REFRESH-INTERVAL;VALUE=DURATION:PT1H
X-Robots-Tag:noindex
X-PUBLISHED-TTL:PT1H
BEGIN:VTIMEZONE
TZID:Europe/Paris
BEGIN:DAYLIGHT
TZOFFSETFROM:+0100
TZOFFSETTO:+0200
TZNAME:CEST
DTSTART:20250330T010000
END:DAYLIGHT
BEGIN:STANDARD
TZOFFSETFROM:+0200
TZOFFSETTO:+0100
TZNAME:CET
DTSTART:20251026T010000
END:STANDARD
END:VTIMEZONE
BEGIN:VEVENT
DTSTART;TZID=Europe/Paris:20250311T100000
DTEND;TZID=Europe/Paris:20250311T120000
DTSTAMP:20260422T045323
CREATED:20250206T134820Z
LAST-MODIFIED:20250305T144419Z
UID:10000221-1741687200-1741694400@jni.iesf.fr
SUMMARY:Visite de l'entreprise Braincube par des doctorants de l'UCA (Université Clermont Auvergne)
DESCRIPTION:Visite organisée par IESF Auvergne dans le cadre du module « Docteurs en Entreprises » qu’elle a mis en place et anime depuis 6 ans pour le Collège des Écoles Doctorales de l’Université Clermont Auvergne (UCA).\nUne opportunité pour ces doctorants de préparer leur insertion professionnelle en se familiarisant avec le monde des entreprises : modèles économiques\, attentes vis à vis de leurs cadres\, processus d’embauche et de gestion de carrière\, etc. \nÉvènement réservé aux participants au module « Docteurs en Entreprises ».
URL:https://jni.iesf.fr/agenda/visite-de-lentreprise-braincube-par-des-doctorants-de-luca-universite-clermont-auvergne/
LOCATION:Visite de l’entreprise Braincube par des doctorants de l’UCA\, 77 Route de St Germain\, Issoire\, Auvergne-Rhône-Alpes\, 63500\, France
CATEGORIES:Visite d'entreprise
ATTACH;FMTTYPE=image/jpeg:https://jni.iesf.fr/wp-content/uploads/2025/02/67a494f47b710.jpg
END:VEVENT
END:VCALENDAR