BEGIN:VCALENDAR
VERSION:2.0
PRODID:-//Journées Nationales de l&#039;Ingénieur - IESF - ECPv6.10.1.1//NONSGML v1.0//EN
CALSCALE:GREGORIAN
METHOD:PUBLISH
X-ORIGINAL-URL:https://jni.iesf.fr
X-WR-CALDESC:Évènements pour Journées Nationales de l&#039;Ingénieur - IESF
REFRESH-INTERVAL;VALUE=DURATION:PT1H
X-Robots-Tag:noindex
X-PUBLISHED-TTL:PT1H
BEGIN:VTIMEZONE
TZID:Europe/Paris
BEGIN:DAYLIGHT
TZOFFSETFROM:+0100
TZOFFSETTO:+0200
TZNAME:CEST
DTSTART:20250330T010000
END:DAYLIGHT
BEGIN:STANDARD
TZOFFSETFROM:+0200
TZOFFSETTO:+0100
TZNAME:CET
DTSTART:20251026T010000
END:STANDARD
END:VTIMEZONE
BEGIN:VEVENT
DTSTART;TZID=Europe/Paris:20250306T130000
DTEND;TZID=Europe/Paris:20250306T143000
DTSTAMP:20260422T032141
CREATED:20250221T092010Z
LAST-MODIFIED:20250221T092307Z
UID:10000266-1741266000-1741271400@jni.iesf.fr
SUMMARY:Business Lunch Femmes et ingénieures
DESCRIPTION:L’EIDD\, école d’ingénieurs inter de l’université Paris Cité se mobilise pour la Journée internationale des droits des femmes à travers une programmation riche et engagée.\nObjectifs : \n– Créer un espace de rencontre et d’échange entre les étudiantes actuelles\, des diplômées ingénieures ou encore des représentant-e-s d’entreprises investies dans la féminisation des parcours scientifiques.\n– Partager des expériences\, des conseils et des parcours inspirants.\n– Favoriser les carrières scientifiques auprès des jeunes femmes. \nUn plateau repas sera offert à l’ensemble des personnes participantes. \nPublics cibles : Élèves-ingénieures\, étudiantes de la Faculté des Sciences\, futures candidates\, lycéennes \nAutre type d’événement:Business Lunch
URL:https://jni.iesf.fr/agenda/business-lunch-femmes-et-ingenieures/
LOCATION:Campus des Grands Moulins\, Paris\, 75013\, France
CATEGORIES:Rencontre
ATTACH;FMTTYPE=image/jpeg:https://jni.iesf.fr/wp-content/uploads/2025/02/67b83eac9f031.jpg
END:VEVENT
END:VCALENDAR